BEGIN:VCALENDAR
VERSION:2.0
PRODID:-//ChamberMaster//Event Calendar 2.0//EN
METHOD:PUBLISH
X-PUBLISHED-TTL:P1H
REFRESH-INTERVAL:P1H
CALSCALE:GREGORIAN
BEGIN:VTIMEZONE
TZID:America/Chicago
BEGIN:DAYLIGHT
RRULE:FREQ=YEARLY;BYMONTH=3;BYDAY=2SU
DTSTART:20070101T000000
TZOFFSETFROM:-0600
TZOFFSETTO:-0500
TZNAME:Central Daylight Time
END:DAYLIGHT
BEGIN:STANDARD
RRULE:FREQ=YEARLY;BYMONTH=11;BYDAY=1SU
DTSTART:20070101T000000
TZOFFSETFROM:-0500
TZOFFSETTO:-0600
TZNAME:Central Standard Time
END:STANDARD
END:VTIMEZONE
BEGIN:VEVENT
DTSTART;TZID=America/Chicago:20260514T100000
DTEND;TZID=America/Chicago:20260514T110000
X-MICROSOFT-CDO-ALLDAYEVENT:FALSE
SUMMARY:May 14\, 2026 IMA Executive Forum : Cybersecurity
DESCRIPTION:Collaboration. Ideas. Relationships. IMA President & CEO Mark Denzler created this small and exclusive forum of CEO's and executive leadership to connect leading manufacturing executives. Now in its third year\, these meetings continue to offer a platform to address hot topics and share solutions to common challenges. ﻿Our second Executive Forum of the year takes on a timely issue. In this moderated conversation\, Jerry Murphy\, Principal\, Sikich LLC and Elizabeth Ward\, Managing Director - Cybersecurity will open with a brief overview of the cyber landscape and new threats affecting manufacturers today. This session includes a practical\, business focused look at cyber readiness - what "good" looks like to navigating the first 24 hours after an incident. Cyber risk is no longer an IT issue it's a leadership issue. We'll conclude with a peer discussion of other trending topics shaping the future of the industry. Designed for manufacturing leaders\, this forum strengthens peer relationships while encouraging the exchange of ideas\, challenges\, and solutions. Participation is limited to ensure a high-value\, peer-driven experience.
X-ALT-DESC;FMTTYPE=text/html:<!DOCTYPE html><html><head><title></title></head><body aria-disabled="false"><p>Collaboration. Ideas. Relationships. IMA President &amp\; CEO Mark Denzler created this small and exclusive forum of CEO&rsquo\;s and executive leadership to connect leading manufacturing executives. Now in its third year\, these meetings continue to offer a platform to address hot topics and share solutions to common challenges.&nbsp\;</p><p>﻿Our second Executive Forum of the year takes on a timely issue. In this moderated conversation\, Jerry Murphy\, Principal\, Sikich LLC and Elizabeth Ward\, Managing Director - Cybersecurity will open with a brief overview of the cyber landscape and new threats affecting manufacturers today.&nbsp\;</p><p>This session includes a practical\, business focused look at cyber readiness - what &quot\;good&quot\; looks like to navigating the first 24 hours after an incident. Cyber risk is no longer an IT issue&mdash\;it&rsquo\;s a leadership issue. We&rsquo\;ll conclude with a peer discussion of other trending topics shaping the future of the industry.&nbsp\;</p><p>Designed for manufacturing leaders\, this forum strengthens peer relationships while encouraging the exchange of ideas\, challenges\, and solutions. Participation is limited to ensure a high-value\, peer-driven experience.</p></body></html>
LOCATION:
UID:e.1311.1448327
SEQUENCE:3
DTSTAMP:20260423T164212Z
URL:https://illinoismanufacturersassociation.growthzoneapp.com/eventcalendar/Details/may-14-2026-ima-executive-forum-cybersecurity-1715327?sourceTypeId=Hub
END:VEVENT
END:VCALENDAR
